BEGIN:VCALENDAR
VERSION:2.0
PRODID:-//Perhimpunan Pendidikan dan Pengajaran Kristen Petra - ECPv6.15.20//NONSGML v1.0//EN
CALSCALE:GREGORIAN
METHOD:PUBLISH
X-WR-CALNAME:Perhimpunan Pendidikan dan Pengajaran Kristen Petra
X-ORIGINAL-URL:https://pppkpetra.sch.id
X-WR-CALDESC:Events for Perhimpunan Pendidikan dan Pengajaran Kristen Petra
REFRESH-INTERVAL;VALUE=DURATION:PT1H
X-Robots-Tag:noindex
X-PUBLISHED-TTL:PT1H
BEGIN:VTIMEZONE
TZID:Asia/Krasnoyarsk
BEGIN:STANDARD
TZOFFSETFROM:+0700
TZOFFSETTO:+0700
TZNAME:+07
DTSTART:20190101T000000
END:STANDARD
END:VTIMEZONE
BEGIN:VEVENT
DTSTART;VALUE=DATE:20210602
DTEND;VALUE=DATE:20210603
DTSTAMP:20260423T194447
CREATED:20200907T031034Z
LAST-MODIFIED:20200907T041736Z
UID:3882-1622592000-1622678399@pppkpetra.sch.id
SUMMARY:Daftar Ulang Siswa Lama
DESCRIPTION:Daftar ulang secara online untuk siswa lama TK A melalui website PPPK Petra
URL:https://pppkpetra.sch.id/event/daftar-ulang-tk/
CATEGORIES:PSB Jenjang TK
END:VEVENT
BEGIN:VEVENT
DTSTART;VALUE=DATE:20201005
DTEND;VALUE=DATE:20201006
DTSTAMP:20260423T194447
CREATED:20200907T030946Z
LAST-MODIFIED:20200907T032209Z
UID:3880-1601856000-1601942399@pppkpetra.sch.id
SUMMARY:PSB Gelombang 2 (apabila masih ada tempat)
DESCRIPTION:Jenjang TK melaksanakan PSB Gelombang 2 jika masih ada tempat.
URL:https://pppkpetra.sch.id/event/psb-gelombang-2-apabila-masih-ada-tempat-2/
CATEGORIES:PSB Jenjang TK
END:VEVENT
BEGIN:VEVENT
DTSTART;VALUE=DATE:20200916
DTEND;VALUE=DATE:20200926
DTSTAMP:20260423T194447
CREATED:20200907T030752Z
LAST-MODIFIED:20200910T065510Z
UID:3876-1600214400-1601078399@pppkpetra.sch.id
SUMMARY:Perkenalan
DESCRIPTION:Perkenalan
URL:https://pppkpetra.sch.id/event/perkenalan-tk/
CATEGORIES:PSB Jenjang TK
END:VEVENT
BEGIN:VEVENT
DTSTART;VALUE=DATE:20200916
DTEND;VALUE=DATE:20200929
DTSTAMP:20260423T194447
CREATED:20200907T030844Z
LAST-MODIFIED:20200907T030844Z
UID:3878-1600214400-1601337599@pppkpetra.sch.id
SUMMARY:Pengumuman\, Pembayaran dan Daftar Ulang
DESCRIPTION:Pengumuman hasil PSB\nPembayaran uang pengembangan\nPembayaran uang sekolah Juli\nPembayaran Daftar Ulang
URL:https://pppkpetra.sch.id/event/pengumuman-pembayaran-dan-daftar-ulang-tk/
CATEGORIES:PSB Jenjang TK
END:VEVENT
BEGIN:VEVENT
DTSTART;VALUE=DATE:20200914
DTEND;VALUE=DATE:20200919
DTSTAMP:20260423T194447
CREATED:20200907T030643Z
LAST-MODIFIED:20200907T030643Z
UID:3873-1600041600-1600473599@pppkpetra.sch.id
SUMMARY:Pendaftaran Online Melalui Website PPPK Petra
DESCRIPTION:Pendaftaran Online Melalui Website PPPK Petra
URL:https://pppkpetra.sch.id/event/pendaftaran-online-melalui-website-pppk-petra/
CATEGORIES:PSB Jenjang TK
END:VEVENT
END:VCALENDAR